Workbook

Sheet 園児
A1: 健康調査票（園児） | D1: 施設名： | J1: 電話番号： | O1: 担当者名： | Z1: =TODAY() -> 46302
G2: 感染可能期間 | I2: 発症日 | K2: 検査陽性判明 | M2: 療養中 | O2: 登園 | V2: 送付先：岡山県備前保健所 保健課
B3: 症 状 | D3: １：発熱 ２：咳 ３：痰 ４：吐き気 ５：嘔吐 ６：下痢 ７：腹痛 | V3: E-mail：bizen-hokenka@pref.okayama.lg.jp
V4: FAX：086-271-0317
G5: ここに初発日を入力 ↓ | H5: ⇒黄色セル以降の水色セルは、日付は自動で入力されるので操作不要です
A6: № | B6: 氏 名 ※イニシャルも可 | C6: 性別 | D6: 年齢 | E6: クラス名 | F6: 直近における 予防接種の 接種日 | H6: =G6+1 -> 1 | I6: =H6+1 -> 2 | J6: =I6+1 -> 3 | K6: =J6+1 -> 4 | L6: =K6+1 -> 5 | M6: =L6+1 -> 6 | N6: =M6+1 -> 7 | O6: =N6+1 -> 8 | ... AB6: =AA6+1 -> 21
G7: 初発患者の 発症日を 0日 | H7: １日 | I7: ２日 | J7: ３日 | K7: ４日 | L7: ５日 | M7: ６日 | N7: ７日 | O7: ８日 | P7: ９日 | Q7: １０日 | R7: １１日 | S7: １２日 | T7: １３日 | U7: １４日 | V7: １５日 | W7: １６日 | X7: １７日 | Y7: １８日 | Z7: １９日 | AA7: ２０日 | AB7: ２１日
A8: 見本 | B8: 岡山太郎 | C8: 男 | D8: 3 | E8: もも | F8: 2026.10.15 | H8: 発症日 | I8: 療養中 | J8: 療養中 | K8: 療養中 | L8: 療養中 | M8: 療養中 | N8: 療養中
H9: 1 | I9: 1・2 インフルA判明 | J9: １・２ | K9: 1・２ | L9: 2 | M9: 2 | O9: 登園
A10: 見本 | B10: 岡山次郎 | C10: 男 | D10: ４ | E10: うめ | F10: 2026.10.05 | I10: 発症日 | J10: 療養中 | K10: 療養中 | L10: 療養中 | M10: 療養中 | N10: 療養中 | O10: 療養中
I11: 1 | J11: 1・2 コロナ判明 | K11: １・２ | L11: 1・２ | M11: 2 | N11: 2 | P11: 登園
A12: 1
A14: 2
A16: 3
A18: 4
A20: 5
A22: 6
A24: 7
A26: 8
A28: 9
A30: 10
A32: 11
A34: 12
... A110: 50
F112: 新発生者数 | H112: =COUNTIF(H12:H111,"発症日") -> 0 | I112: =COUNTIF(I12:I111,"発症日") -> 0 | J112: =COUNTIF(J12:J111,"発症日") -> 0 | K112: =COUNTIF(K12:K111,"発症日") -> 0 | L112: =COUNTIF(L12:L111,"発症日") -> 0 | M112: =COUNTIF(M12:M111,"発症日") -> 0 | N112: =COUNTIF(N12:N111,"発症日") -> 0 | O112: =COUNTIF(O12:O111,"発症日") -> 0 | ... AB112: =COUNTIF(AB12:AB111,"発症日") -> 0
F113: 有症状者数 | H113: =COUNTIF(H12:H111,"療養中") -> 0 | I113: =COUNTIF(I12:I111,"療養中") -> 0 | J113: =COUNTIF(J12:J111,"療養中") -> 0 | K113: =COUNTIF(K12:K111,"療養中") -> 0 | L113: =COUNTIF(L12:L111,"療養中") -> 0 | M113: =COUNTIF(M12:M111,"療養中") -> 0 | N113: =COUNTIF(N12:N111,"療養中") -> 0 | O113: =COUNTIF(O12:O111,"療養中") -> 0 | ... AB113: =COUNTIF(AB12:AB111,"療養中") -> 0
F115: 発症日
F116: 療養中

Sheet 職員
A1: 健康調査票（職員） | D1: 施設名： | F1: =園児!F1 -> 0 | J1: 電話番号： | L1: =園児!L1 -> 0 | O1: 担当者名： | Q1: =園児!Q1 -> 0 | Z1: =TODAY() -> 46302
G2: 感染可能期間 | I2: 発症日 | K2: 検査陽性判明 | M2: 療養中 | O2: 復帰 | V2: 送付先：岡山県備前保健所 保健課
B3: 症 状 | D3: １：発熱 ２：咳 ３：痰 ４：吐き気 ５：嘔吐 ６：下痢 ７：腹痛 | V3: E-mail：bizen-hokenka@pref.okayama.lg.jp
V4: FAX：086-271-0317
G5: ここに初発日を入力 ↓ | H5: ⇒黄色セル以降の水色セルは、日付は自動で入力されるので操作不要です
A6: № | B6: 氏 名 ※イニシャルも可 | C6: 性別 | D6: 担当 クラス | E6: 職種 | F6: 直近における 予防接種の 接種日 | H6: =G6+1 -> 1 | I6: =H6+1 -> 2 | J6: =I6+1 -> 3 | K6: =J6+1 -> 4 | L6: =K6+1 -> 5 | M6: =L6+1 -> 6 | N6: =M6+1 -> 7 | O6: =N6+1 -> 8 | ... AB6: =AA6+1 -> 21
G7: 初発患者の 発症日を 0日 | H7: １日 | I7: ２日 | J7: ３日 | K7: ４日 | L7: ５日 | M7: ６日 | N7: ７日 | O7: ８日 | P7: ９日 | Q7: １０日 | R7: １１日 | S7: １２日 | T7: １３日 | U7: １４日 | V7: １５日 | W7: １６日 | X7: １７日 | Y7: １８日 | Z7: １９日 | AA7: ２０日 | AB7: ２１日
A8: 見本 | B8: 岡山太郎 | C8: 女 | D8: もも | E8: 保育士 | F8: 2026.10.7 | H8: 発症日 | I8: 療養中 | J8: 療養中 | K8: 療養中 | L8: 療養中 | M8: 療養中 | N8: 療養中
H9: 1 | I9: 1・2 インフルA判明 | J9: 2 | K9: 2 | L9: 2 | M9: 2 | O9: 復帰
A10: 1
A12: 2
A14: 3
A16: 4
A18: 5
A20: 6
A22: 7
A24: 8
A26: 9
A28: 10
A30: 11
A32: 12
... A108: 50
F110: 新発生者数 | H110: =COUNTIF(H10:H109,"発症日") -> 0 | I110: =COUNTIF(I10:I109,"発症日") -> 0 | J110: =COUNTIF(J10:J109,"発症日") -> 0 | K110: =COUNTIF(K10:K109,"発症日") -> 0 | L110: =COUNTIF(L10:L109,"発症日") -> 0 | M110: =COUNTIF(M10:M109,"発症日") -> 0 | N110: =COUNTIF(N10:N109,"発症日") -> 0 | O110: =COUNTIF(O10:O109,"発症日") -> 0 | ... AB110: =COUNTIF(AB10:AB109,"発症日") -> 0
F111: 有症状者数 | H111: =COUNTIF(H10:H109,"療養中") -> 0 | I111: =COUNTIF(I10:I109,"療養中") -> 0 | J111: =COUNTIF(J10:J109,"療養中") -> 0 | K111: =COUNTIF(K10:K109,"療養中") -> 0 | L111: =COUNTIF(L10:L109,"療養中") -> 0 | M111: =COUNTIF(M10:M109,"療養中") -> 0 | N111: =COUNTIF(N10:N109,"療養中") -> 0 | O111: =COUNTIF(O10:O109,"療養中") -> 0 | ... AB111: =COUNTIF(AB10:AB109,"療養中") -> 0
F113: 発症日
F114: 療養中

Sheet 感染症発生状況（グラフ）
A1: 感染症発生状況（新発生者数、有症者数）
A3: 施設名 | B3: =園児!F1 -> 0 | H3: 所在地
B5: 全体（名） | D5: 陽性者（名） | F5: 陽性者 （うち入院（名）） | H5: 陽性者 （うち死亡（名）） | J5: 陽性者割合（％） | M5: 終息までの 日数（日）
A6: 入所者数 | D6: =R15 -> 0 | J6: =D6/B6*100 -> #DIV/0!
A7: 職員数 | D7: =R16 -> 0 | J7: =D7/B7*100 -> #DIV/0!
A9: 新発生者数
A10: 経過日数 | B10: 1 | C10: 2 | D10: 3 | E10: 4 | F10: 5 | G10: 6 | H10: 7 | I10: 8 | J10: 9 | K10: 10 | L10: 11 | M10: 12 | N10: 13 | O10: 14 | P10: 15 | Q10: 16 | R10: 計
A11: 日付 | B11: =園児!H6 -> 1 | C11: =園児!I6 -> 2 | D11: =園児!J6 -> 3 | E11: =園児!K6 -> 4 | F11: =園児!L6 -> 5 | G11: =園児!M6 -> 6 | H11: =園児!N6 -> 7 | I11: =園児!O6 -> 8 | ... Q11: =園児!W6 -> 16
B12: =園児!H112 -> 0 | C12: =園児!I112 -> 0 | D12: =園児!J112 -> 0 | E12: =園児!K112 -> 0 | F12: =園児!L112 -> 0 | G12: =園児!M112 -> 0 | H12: =園児!N112 -> 0 | I12: =園児!O112 -> 0 | ... Q12: =園児!W112 -> 0 | R12: =SUM(B12:Q12) -> 0
R13: =SUM(B13:Q13) -> 0
R14: =SUM(B14:Q14) -> 0
A15: 園児計 | B15: =SUM(B12:B14) -> 0 | C15: =SUM(C12:C14) -> 0 | D15: =SUM(D12:D14) -> 0 | E15: =SUM(E12:E14) -> 0 | F15: =SUM(F12:F14) -> 0 | G15: =SUM(G12:G14) -> 0 | H15: =SUM(H12:H14) -> 0 | I15: =SUM(I12:I14) -> 0 | ... Q15: =SUM(Q12:Q14) -> 0 | R15: =SUM(B15:Q15) -> 0
A16: 職員 | B16: =職員!H110 -> 0 | C16: =職員!I110 -> 0 | D16: =職員!J110 -> 0 | E16: =職員!K110 -> 0 | F16: =職員!L110 -> 0 | G16: =職員!M110 -> 0 | H16: =職員!N110 -> 0 | I16: =職員!O110 -> 0 | ... Q16: =職員!W110 -> 0 | R16: =SUM(B16:Q16) -> 0
A18: 有症者数
B19: =園児!H113 -> 0 | C19: =園児!I113 -> 0 | D19: =園児!J113 -> 0 | E19: =園児!K113 -> 0 | F19: =園児!L113 -> 0 | G19: =園児!M113 -> 0 | H19: =園児!N113 -> 0 | I19: =園児!O113 -> 0 | ... Q19: =園児!W113 -> 0
A22: 園児計 | B22: =SUM(B19:B21) -> 0 | C22: =SUM(C19:C21) -> 0 | D22: =SUM(D19:D21) -> 0 | E22: =SUM(E19:E21) -> 0 | F22: =SUM(F19:F21) -> 0 | G22: =SUM(G19:G21) -> 0 | H22: =SUM(H19:H21) -> 0 | I22: =SUM(I19:I21) -> 0 | ... O22: =SUM(O19:O21) -> 0 | P22: 0 | Q22: =SUM(Q19:Q21) -> 0
A23: 職員 | B23: =職員!H111 -> 0 | C23: =職員!I111 -> 0 | D23: =職員!J111 -> 0 | E23: =職員!K111 -> 0 | F23: =職員!L111 -> 0 | G23: =職員!M111 -> 0 | H23: =職員!N111 -> 0 | I23: =職員!O111 -> 0 | ... Q23: =職員!W111 -> 0
